BEGIN:VCALENDAR
VERSION:2.0
PRODID:-//Tukios.com/
BEGIN:VEVENT
UID:a8dc4df1-c879-4476-a3ff-d9f2afb31687@www.ashleyvalleyfuneralhome.com
DTSTAMP:20260424T012256Z
DTSTART:20260430T191500Z
DTEND:20260430T194500Z
SUMMARY:Interment
DESCRIPTION:
URL:https://www.ashleyvalleyfuneralhome.com/obituaries/artell-armstrong
LOCATION:Vernal Memorial Park 1700 South Vernal Avenue  Vernal UT 84078
GEO:40.4306649;-109.5282204
END:VEVENT
END:VCALENDAR