BEGIN:VCALENDAR
VERSION:2.0
PRODID:-//Tukios.com/
BEGIN:VEVENT
UID:09b99622-e3b4-4812-b49a-b7de1fcbf342@www.ashleyvalleyfuneralhome.com
DTSTAMP:20260424T011923Z
DTSTART:20260430T163000Z
DTEND:20260501T054500Z
SUMMARY:Visitation
DESCRIPTION:
URL:https://www.ashleyvalleyfuneralhome.com/obituaries/artell-armstrong
LOCATION:Naples 2nd Ward     
GEO:0;0
END:VEVENT
END:VCALENDAR