BEGIN:VCALENDAR
VERSION:2.0
PRODID:-//Tukios.com/
BEGIN:VEVENT
UID:34f4a17a-59a6-48ff-8b6a-c75d862be8b0@www.ashleyvalleyfuneralhome.com
DTSTAMP:20260424T011923Z
DTSTART:20260430T180000Z
DTEND:20260430T190000Z
SUMMARY:Funeral Service
DESCRIPTION:
URL:https://www.ashleyvalleyfuneralhome.com/obituaries/artell-armstrong
LOCATION:Naples 2nd Ward     
GEO:0;0
END:VEVENT
END:VCALENDAR