BEGIN:VCALENDAR
VERSION:2.0
PRODID:-//Tukios.com/
BEGIN:VEVENT
UID:1cd69adc-39b3-4ee8-a03d-254aa3407a75@www.ashleyvalleyfuneralhome.com
DTSTAMP:20260421T083209Z
DTSTART:20260307T210000Z
DTEND:20260307T230000Z
SUMMARY:Celebration of Life
DESCRIPTION:
URL:https://www.ashleyvalleyfuneralhome.com/obituaries/david-rasmussen
LOCATION:Uintah Conference Center 313 East 200 South  Vernal UT 84078
GEO:40.4532409;-109.5224852
END:VEVENT
END:VCALENDAR