BEGIN:VCALENDAR
VERSION:2.0
PRODID:-//Tukios.com/
BEGIN:VEVENT
UID:d20f1fcc-0467-4503-bfe2-6473a4915c3e@www.ashleyvalleyfuneralhome.com
DTSTAMP:20260420T092125Z
DTSTART:20260418T180000Z
DTEND:20260418T190000Z
SUMMARY:Funeral Service
DESCRIPTION:
URL:https://www.ashleyvalleyfuneralhome.com/obituaries/harley-hales
LOCATION:Ashley Valley Funeral Home 410 North 800 West  Vernal UT 84078
GEO:40.4620675;-109.5424439
END:VEVENT
END:VCALENDAR