BEGIN:VCALENDAR
VERSION:2.0
PRODID:-//Tukios.com/
BEGIN:VEVENT
UID:ef7a8788-3c2e-459c-b372-ba9e7e5d1c10@www.ashleyvalleyfuneralhome.com
DTSTAMP:20260421T191005Z
DTSTART:20260425T163000Z
DTEND:20260425T183000Z
SUMMARY:Visitation
DESCRIPTION:
URL:https://www.ashleyvalleyfuneralhome.com/obituaries/jean-draper
LOCATION:Ashley Valley Funeral Home 410 North 800 West  Vernal UT 84078
GEO:40.4620675;-109.5424439
END:VEVENT
END:VCALENDAR