BEGIN:VCALENDAR
VERSION:2.0
PRODID:-//Tukios.com/
BEGIN:VEVENT
UID:ad913d07-e861-4cce-bd2d-2ce2d9391f4b@www.ashleyvalleyfuneralhome.com
DTSTAMP:20260421T191846Z
DTSTART:20260425T190000Z
DTEND:20260425T200000Z
SUMMARY:Graveside Service
DESCRIPTION:
URL:https://www.ashleyvalleyfuneralhome.com/obituaries/jean-draper
LOCATION:Vernal Memorial Park 1700 South Vernal Avenue  Vernal UT 84078
GEO:40.4306649;-109.5282204
END:VEVENT
END:VCALENDAR