BEGIN:VCALENDAR
VERSION:2.0
PRODID:-//Tukios.com/
BEGIN:VEVENT
UID:8dd9fb4b-4748-4e44-ad1d-6b8507778f2c@www.ashleyvalleyfuneralhome.com
DTSTAMP:20260423T175605Z
DTSTART:20260508T170000Z
DTEND:20260508T180000Z
SUMMARY:Celebration of Life
DESCRIPTION:
URL:https://www.ashleyvalleyfuneralhome.com/obituaries/joyce-johnson-2026
LOCATION:Ashley Valley Funeral Home 410 North 800 West  Vernal UT 84078
GEO:40.4620675;-109.5424439
END:VEVENT
END:VCALENDAR