BEGIN:VCALENDAR
VERSION:2.0
PRODID:-//Tukios.com/
BEGIN:VEVENT
UID:18fcf5d5-8855-485d-9148-d6b5cd86b459@www.ashleyvalleyfuneralhome.com
DTSTAMP:20260423T175354Z
DTSTART:20260508T160000Z
DTEND:20260508T170000Z
SUMMARY:Visitation
DESCRIPTION:
URL:https://www.ashleyvalleyfuneralhome.com/obituaries/joyce-johnson-2026
LOCATION:Ashley Valley Funeral Home 410 North 800 West  Vernal UT 84078
GEO:40.4620675;-109.5424439
END:VEVENT
END:VCALENDAR