BEGIN:VCALENDAR
VERSION:2.0
PRODID:-//Tukios.com/
BEGIN:VEVENT
UID:59a5d3a8-e17c-404c-b168-1db7cb5155e5@www.ashleyvalleyfuneralhome.com
DTSTAMP:20260422T082452Z
DTSTART:20260422T183000Z
DTEND:20260422T190000Z
SUMMARY:Interment
DESCRIPTION:
URL:https://www.ashleyvalleyfuneralhome.com/obituaries/michael-swett
LOCATION:Rockpoint Cemetery 2250 West 2500 North  Vernal UT 84078
GEO:40.4921783;-109.5720075
END:VEVENT
END:VCALENDAR