BEGIN:VCALENDAR
VERSION:2.0
PRODID:-//Tukios.com/
BEGIN:VEVENT
UID:ff5af6d5-e292-45f3-a88d-40d0ec5a0610@www.ashleyvalleyfuneralhome.com
DTSTAMP:20260422T081311Z
DTSTART:20260422T154500Z
DTEND:20260422T164500Z
SUMMARY:Visitation
DESCRIPTION:
URL:https://www.ashleyvalleyfuneralhome.com/obituaries/michael-swett
LOCATION:Ashley 1st Ward Chapel 3040 North Vernal Avenue  Vernal UT 84078
GEO:40.5002457;-109.5284512
END:VEVENT
END:VCALENDAR