BEGIN:VCALENDAR
VERSION:2.0
PRODID:-//Tukios.com/
BEGIN:VEVENT
UID:61920982-9d71-479c-8e35-2fd81a53015f@www.ashleyvalleyfuneralhome.com
DTSTAMP:20260422T081648Z
DTSTART:20260422T000000Z
DTEND:20260422T020000Z
SUMMARY:Visitation
DESCRIPTION:
URL:https://www.ashleyvalleyfuneralhome.com/obituaries/michael-swett
LOCATION:Ashley Valley Funeral Home 410 North 800 West  Vernal UT 84078
GEO:40.4620675;-109.5424439
END:VEVENT
END:VCALENDAR