BEGIN:VCALENDAR
VERSION:2.0
PRODID:-//Tukios.com/
BEGIN:VEVENT
UID:d774efd8-dde3-4176-bf3f-2aaaa436bb5b@www.ashleyvalleyfuneralhome.com
DTSTAMP:20260424T080613Z
DTSTART:20260422T170000Z
DTEND:20260422T180000Z
SUMMARY:Funeral Service
DESCRIPTION:
URL:https://www.ashleyvalleyfuneralhome.com/obituaries/michael-swett
LOCATION:Ashley 1st Ward Chapel 3040 North Vernal Avenue  Vernal UT 84078
GEO:40.5002457;-109.5284512
END:VEVENT
END:VCALENDAR