BEGIN:VCALENDAR
VERSION:2.0
PRODID:-//Tukios.com/
BEGIN:VEVENT
UID:79504fd4-bce3-4e29-a9bc-ee56176f9ab8@www.ashleyvalleyfuneralhome.com
DTSTAMP:20260425T004904Z
DTSTART:20260516T180000Z
DTEND:20260516T220000Z
SUMMARY:Celebration of Life
DESCRIPTION:
URL:https://www.ashleyvalleyfuneralhome.com/obituaries/scott-allred
LOCATION:Davis 2nd Ward Chapel 4080 East 2500 South  Vernal UT 84078
GEO:40.4189381;-109.4660492
END:VEVENT
END:VCALENDAR